BEGIN:VCALENDAR
VERSION:2.0
PRODID:-//CERN//INDICO//EN
BEGIN:VEVENT
SUMMARY:1. DNA SYNTHESIS IN SOLUTION - 2. RNA SYNTHESIS AND THE INTRODUCTI
 ON OF TERMINAL PHOSPHATES - 3.
DTSTART;VALUE=DATE-TIME:19691231T230000Z
DTEND;VALUE=DATE-TIME:19691231T232000Z
DTSTAMP;VALUE=DATE-TIME:20240229T173149Z
UID:indico-contribution-18@ictp.it
DESCRIPTION:Speakers: G.A. VAN DER MAREL ()\n//indico.ictp.it/event/a02041
 /contribution/18
LOCATION:ICTP
URL://indico.ictp.it/event/a02041/contribution/18
END:VEVENT
END:VCALENDAR
