BEGIN:VCALENDAR
VERSION:2.0
PRODID:-//CERN//INDICO//EN
BEGIN:VEVENT
SUMMARY:3. DNA AND PROFLAVIN CRYSTALS: DETERMINATION OF WATER STRUCTURE. C
 OMPLEMENTARITY OF DIFFRACTION
DTSTART;VALUE=DATE-TIME:19691231T230000Z
DTEND;VALUE=DATE-TIME:19691231T232000Z
DTSTAMP;VALUE=DATE-TIME:20240229T173157Z
UID:indico-contribution-25@ictp.it
DESCRIPTION:Speakers: G. CORONGIU ()\n//indico.ictp.it/event/a02041/contri
 bution/25
LOCATION:ICTP
URL://indico.ictp.it/event/a02041/contribution/25
END:VEVENT
END:VCALENDAR
