BEGIN:VCALENDAR
VERSION:2.0
PRODID:-//CERN//INDICO//EN
BEGIN:VEVENT
SUMMARY:1. ELECTRON PARAMAGNETIC RESONANCE OF COPPER-PROTEINS: MONTE CARLO
  SIMULATION OF SPECTRA - 2.
DTSTART;VALUE=DATE-TIME:19691231T230000Z
DTEND;VALUE=DATE-TIME:19691231T232000Z
DTSTAMP;VALUE=DATE-TIME:20240229T173206Z
UID:indico-contribution-26@ictp.it
DESCRIPTION:Speakers: S. CANNISTRARO ()\n//indico.ictp.it/event/a02041/con
 tribution/26
LOCATION:ICTP
URL://indico.ictp.it/event/a02041/contribution/26
END:VEVENT
END:VCALENDAR
