BEGIN:VCALENDAR
VERSION:2.0
PRODID:-//CERN//INDICO//EN
BEGIN:VEVENT
SUMMARY:THE FROEHLICH MODEL AND DNA STUDIES
DTSTART;VALUE=DATE-TIME:19691231T230000Z
DTEND;VALUE=DATE-TIME:19691231T232000Z
DTSTAMP;VALUE=DATE-TIME:20240229T173144Z
UID:indico-contribution-30@ictp.it
DESCRIPTION:Speakers: M. MILANI ()\n//indico.ictp.it/event/a02041/contribu
 tion/30
LOCATION:ICTP
URL://indico.ictp.it/event/a02041/contribution/30
END:VEVENT
END:VCALENDAR
