BEGIN:VCALENDAR
VERSION:2.0
PRODID:-//CERN//INDICO//EN
BEGIN:VEVENT
SUMMARY:THE X-RAY FIBER DIFFRACTION STUDIES OF DNA AND RNA
DTSTART;VALUE=DATE-TIME:19691231T230000Z
DTEND;VALUE=DATE-TIME:19691231T232000Z
DTSTAMP;VALUE=DATE-TIME:20240229T173207Z
UID:indico-contribution-5@ictp.it
DESCRIPTION:Speakers: K. TOMITA ()\n//indico.ictp.it/event/a02041/contribu
 tion/5
LOCATION:ICTP
URL://indico.ictp.it/event/a02041/contribution/5
END:VEVENT
END:VCALENDAR
