BEGIN:VCALENDAR
VERSION:2.0
PRODID:-//CERN//INDICO//EN
BEGIN:VEVENT
SUMMARY:LA RECONVERSION DE LA LUMIERE SOLAIRE OU PHOTOSYNTHESE. SON RENDEM
 ENT\, LE STOCAGE ET LA
DTSTART;VALUE=DATE-TIME:19691231T230000Z
DTEND;VALUE=DATE-TIME:19691231T232000Z
DTSTAMP;VALUE=DATE-TIME:20240229T175535Z
UID:indico-contribution-1@ictp.it
DESCRIPTION:Speakers: A. MOYSE ()\n//indico.ictp.it/event/a02043/contribut
 ion/1
LOCATION:ICTP
URL://indico.ictp.it/event/a02043/contribution/1
END:VEVENT
END:VCALENDAR
