BEGIN:VCALENDAR
VERSION:2.0
PRODID:-//CERN//INDICO//EN
BEGIN:VEVENT
SUMMARY:LA CONCENTRATION DU RAYONNEMENT SOLAIRE
DTSTART;VALUE=DATE-TIME:19691231T230000Z
DTEND;VALUE=DATE-TIME:19691231T232000Z
DTSTAMP;VALUE=DATE-TIME:20240229T175532Z
UID:indico-contribution-16@ictp.it
DESCRIPTION:Speakers: M. AUDIBERT ()\n//indico.ictp.it/event/a02043/contri
 bution/16
LOCATION:ICTP
URL://indico.ictp.it/event/a02043/contribution/16
END:VEVENT
END:VCALENDAR
