BEGIN:VCALENDAR
VERSION:2.0
PRODID:-//CERN//INDICO//EN
BEGIN:VEVENT
SUMMARY:LES CELLULES SOLAIRES PHOTOVOLTAIQUES: FILERES DE RECHERCHE - NOUV
 ELLES REALISATIONS
DTSTART;VALUE=DATE-TIME:19691231T230000Z
DTEND;VALUE=DATE-TIME:19691231T232000Z
DTSTAMP;VALUE=DATE-TIME:20240229T175534Z
UID:indico-contribution-18@ictp.it
DESCRIPTION:Speakers: M. CADENE ()\n//indico.ictp.it/event/a02043/contribu
 tion/18
LOCATION:ICTP
URL://indico.ictp.it/event/a02043/contribution/18
END:VEVENT
END:VCALENDAR
