BEGIN:VCALENDAR
VERSION:2.0
PRODID:-//CERN//INDICO//EN
BEGIN:VEVENT
SUMMARY:ACTIVITES DU GROUPE TOTAL DANS L'ENERGIE SOLAIRE
DTSTART;VALUE=DATE-TIME:19691231T230000Z
DTEND;VALUE=DATE-TIME:19691231T232000Z
DTSTAMP;VALUE=DATE-TIME:20240229T175539Z
UID:indico-contribution-22@ictp.it
DESCRIPTION:Speakers: R. BARTHEZ ()\n//indico.ictp.it/event/a02043/contrib
 ution/22
LOCATION:ICTP
URL://indico.ictp.it/event/a02043/contribution/22
END:VEVENT
END:VCALENDAR
