BEGIN:VCALENDAR
VERSION:2.0
PRODID:-//CERN//INDICO//EN
BEGIN:VEVENT
SUMMARY:STOCKAGE DE L'ENERGIE SOLAIRE
DTSTART;VALUE=DATE-TIME:19691231T230000Z
DTEND;VALUE=DATE-TIME:19691231T232000Z
DTSTAMP;VALUE=DATE-TIME:20240229T175524Z
UID:indico-contribution-5@ictp.it
DESCRIPTION:Speakers: A. DONNADIEU ()\n//indico.ictp.it/event/a02043/contr
 ibution/5
LOCATION:ICTP
URL://indico.ictp.it/event/a02043/contribution/5
END:VEVENT
END:VCALENDAR
