BEGIN:VCALENDAR
VERSION:2.0
PRODID:-//CERN//INDICO//EN
BEGIN:VEVENT
SUMMARY:ELEMENT DE CONSTRUCTION ET METHODES DE CALCUL
DTSTART;VALUE=DATE-TIME:19691231T230000Z
DTEND;VALUE=DATE-TIME:19691231T232000Z
DTSTAMP;VALUE=DATE-TIME:20240229T175539Z
UID:indico-contribution-8@ictp.it
DESCRIPTION:Speakers: J.P. TRAISNEL ()\n//indico.ictp.it/event/a02043/cont
 ribution/8
LOCATION:ICTP
URL://indico.ictp.it/event/a02043/contribution/8
END:VEVENT
END:VCALENDAR
