BEGIN:VCALENDAR
VERSION:2.0
PRODID:-//CERN//INDICO//EN
BEGIN:VEVENT
SUMMARY:THE MST RADAR TECHNIQUE
DTSTART;VALUE=DATE-TIME:19691231T230000Z
DTEND;VALUE=DATE-TIME:19691231T232000Z
DTSTAMP;VALUE=DATE-TIME:20240229T175838Z
UID:indico-contribution-0@ictp.it
DESCRIPTION:Speakers: J. ROETTGER ()\n//indico.ictp.it/event/a02046/contri
 bution/0
LOCATION:ICTP
URL://indico.ictp.it/event/a02046/contribution/0
END:VEVENT
END:VCALENDAR
