BEGIN:VCALENDAR
VERSION:2.0
PRODID:-//CERN//INDICO//EN
BEGIN:VEVENT
SUMMARY:VHS AND UHF DOPPLER RADARS AS TOOLS FOR SYNOPTIC RESEARCH
DTSTART;VALUE=DATE-TIME:19691231T230000Z
DTEND;VALUE=DATE-TIME:19691231T232000Z
DTSTAMP;VALUE=DATE-TIME:20240229T175823Z
UID:indico-contribution-1@ictp.it
DESCRIPTION:Speakers: J. ROETTGER ()\n//indico.ictp.it/event/a02046/contri
 bution/1
LOCATION:ICTP
URL://indico.ictp.it/event/a02046/contribution/1
END:VEVENT
END:VCALENDAR
