BEGIN:VCALENDAR
VERSION:2.0
PRODID:-//CERN//INDICO//EN
BEGIN:VEVENT
SUMMARY:SUBSURFACE PROPAGATION - III. MODES AND MODE CONVERSIONS - APPENDI
 CES A\, B & C - REFERENCES
DTSTART;VALUE=DATE-TIME:19691231T230000Z
DTEND;VALUE=DATE-TIME:19691231T232000Z
DTSTAMP;VALUE=DATE-TIME:20240229T175842Z
UID:indico-contribution-11@ictp.it
DESCRIPTION:Speakers: P. DELOGNE ()\n//indico.ictp.it/event/a02046/contrib
 ution/11
LOCATION:ICTP
URL://indico.ictp.it/event/a02046/contribution/11
END:VEVENT
END:VCALENDAR
