BEGIN:VCALENDAR
VERSION:2.0
PRODID:-//CERN//INDICO//EN
BEGIN:VEVENT
SUMMARY:MISCELLANEOUS TRANSPARENCIES
DTSTART;VALUE=DATE-TIME:19691231T230000Z
DTEND;VALUE=DATE-TIME:19691231T232000Z
DTSTAMP;VALUE=DATE-TIME:20240229T175820Z
UID:indico-contribution-23@ictp.it
DESCRIPTION:Speakers: T.N. PALMER ()\n//indico.ictp.it/event/a02046/contri
 bution/23
LOCATION:ICTP
URL://indico.ictp.it/event/a02046/contribution/23
END:VEVENT
END:VCALENDAR
