BEGIN:VCALENDAR
VERSION:2.0
PRODID:-//CERN//INDICO//EN
BEGIN:VEVENT
SUMMARY:THE GIANT PLANETS: GALILEO GALILEI TO PROJECT GALILEO
DTSTART;VALUE=DATE-TIME:19691231T230000Z
DTEND;VALUE=DATE-TIME:19691231T232000Z
DTSTAMP;VALUE=DATE-TIME:20240229T175824Z
UID:indico-contribution-3@ictp.it
DESCRIPTION:Speakers: R. HIDE ()\n//indico.ictp.it/event/a02046/contributi
 on/3
LOCATION:ICTP
URL://indico.ictp.it/event/a02046/contribution/3
END:VEVENT
END:VCALENDAR
