BEGIN:VCALENDAR
VERSION:2.0
PRODID:-//CERN//INDICO//EN
BEGIN:VEVENT
SUMMARY:THEORY OF OPTICAL BISTABILITY AND LASER INSTABILITIES ( TRANSPAREN
 CIES)
DTSTART;VALUE=DATE-TIME:19691231T230000Z
DTEND;VALUE=DATE-TIME:19691231T232000Z
DTSTAMP;VALUE=DATE-TIME:20240229T183136Z
UID:indico-contribution-12@ictp.it
DESCRIPTION:Speakers: L. LUGIATO ()\n//indico.ictp.it/event/a02058/contrib
 ution/12
LOCATION:ICTP
URL://indico.ictp.it/event/a02058/contribution/12
END:VEVENT
END:VCALENDAR
