BEGIN:VCALENDAR
VERSION:2.0
PRODID:-//CERN//INDICO//EN
BEGIN:VEVENT
SUMMARY:GENERATION OF ULTRASHORT PULSES WITH DISTRIBUTED FEEDBACK DYE LASE
 RS
DTSTART;VALUE=DATE-TIME:19691231T230000Z
DTEND;VALUE=DATE-TIME:19691231T232000Z
DTSTAMP;VALUE=DATE-TIME:20240229T183202Z
UID:indico-contribution-13@ictp.it
DESCRIPTION:Speakers: A. MUELLER ()\n//indico.ictp.it/event/a02058/contrib
 ution/13
LOCATION:ICTP
URL://indico.ictp.it/event/a02058/contribution/13
END:VEVENT
END:VCALENDAR
