BEGIN:VCALENDAR
VERSION:2.0
PRODID:-//CERN//INDICO//EN
BEGIN:VEVENT
SUMMARY:EXPERIMENTAL FEATURES OF OPTICAL BISTABILITY
DTSTART;VALUE=DATE-TIME:19691231T230000Z
DTEND;VALUE=DATE-TIME:19691231T232000Z
DTSTAMP;VALUE=DATE-TIME:20240229T183056Z
UID:indico-contribution-16@ictp.it
DESCRIPTION:Speakers: E. ARIMONDO ()\n//indico.ictp.it/event/a02058/contri
 bution/16
LOCATION:ICTP
URL://indico.ictp.it/event/a02058/contribution/16
END:VEVENT
END:VCALENDAR
