BEGIN:VCALENDAR
VERSION:2.0
PRODID:-//CERN//INDICO//EN
BEGIN:VEVENT
SUMMARY:A COMPACT AND RELIABLE Nd:YAG LASER FOR OPHTHALMIC MICROSURGERY
DTSTART;VALUE=DATE-TIME:19691231T230000Z
DTEND;VALUE=DATE-TIME:19691231T232000Z
DTSTAMP;VALUE=DATE-TIME:20240229T183057Z
UID:indico-contribution-22@ictp.it
DESCRIPTION:Speakers: F. DOCHIO ()\, L. PALLARO ()\, O. SVELTO ()\n//indic
 o.ictp.it/event/a02058/contribution/22
LOCATION:ICTP
URL://indico.ictp.it/event/a02058/contribution/22
END:VEVENT
END:VCALENDAR
