BEGIN:VCALENDAR
VERSION:2.0
PRODID:-//CERN//INDICO//EN
BEGIN:VEVENT
SUMMARY:LASER LABORATORY: FLASHLAMP PUMPED DYE-LASER
DTSTART;VALUE=DATE-TIME:19691231T230000Z
DTEND;VALUE=DATE-TIME:19691231T232000Z
DTSTAMP;VALUE=DATE-TIME:20240229T183158Z
UID:indico-contribution-26@ictp.it
DESCRIPTION:Speakers: F.P. SCHAEFER ()\n//indico.ictp.it/event/a02058/cont
 ribution/26
LOCATION:ICTP
URL://indico.ictp.it/event/a02058/contribution/26
END:VEVENT
END:VCALENDAR
