BEGIN:VCALENDAR
VERSION:2.0
PRODID:-//CERN//INDICO//EN
BEGIN:VEVENT
SUMMARY:INFRARED LASER ISOTOPE SEPARATION IN A VAN DER WAALS CLUSTER BEAM 
 - LASER ISOTOPE SEPARATION BY
DTSTART;VALUE=DATE-TIME:19691231T230000Z
DTEND;VALUE=DATE-TIME:19691231T232000Z
DTSTAMP;VALUE=DATE-TIME:20240229T183039Z
UID:indico-contribution-3@ictp.it
DESCRIPTION:Speakers: R. MONOT ()\n//indico.ictp.it/event/a02058/contribut
 ion/3
LOCATION:ICTP
URL://indico.ictp.it/event/a02058/contribution/3
END:VEVENT
END:VCALENDAR
