BEGIN:VCALENDAR
VERSION:2.0
PRODID:-//CERN//INDICO//EN
BEGIN:VEVENT
SUMMARY:THE LELA EXPERIMENT
DTSTART;VALUE=DATE-TIME:19691231T230000Z
DTEND;VALUE=DATE-TIME:19691231T232000Z
DTSTAMP;VALUE=DATE-TIME:20240229T183117Z
UID:indico-contribution-32@ictp.it
DESCRIPTION:Speakers: S. SOLIMENO ()\n//indico.ictp.it/event/a02058/contri
 bution/32
LOCATION:ICTP
URL://indico.ictp.it/event/a02058/contribution/32
END:VEVENT
END:VCALENDAR
