BEGIN:VCALENDAR
VERSION:2.0
PRODID:-//CERN//INDICO//EN
BEGIN:VEVENT
SUMMARY:INSTABILITY THRESHOLD\, QUANTUM INITIATION AND PHOTONSTAISTICS IN 
 HIGH-GAIN FREE ELECTRON LASERS
DTSTART;VALUE=DATE-TIME:19691231T230000Z
DTEND;VALUE=DATE-TIME:19691231T232000Z
DTSTAMP;VALUE=DATE-TIME:20240229T183044Z
UID:indico-contribution-38@ictp.it
DESCRIPTION:Speakers: R. BONIFACIO ()\, F. CASAGRANDE ()\n//indico.ictp.it
 /event/a02058/contribution/38
LOCATION:ICTP
URL://indico.ictp.it/event/a02058/contribution/38
END:VEVENT
END:VCALENDAR
