BEGIN:VCALENDAR
VERSION:2.0
PRODID:-//CERN//INDICO//EN
BEGIN:VEVENT
SUMMARY:THEORY OF POINT GROUPS
DTSTART;VALUE=DATE-TIME:19691231T230000Z
DTEND;VALUE=DATE-TIME:19691231T232000Z
DTSTAMP;VALUE=DATE-TIME:20240229T183119Z
UID:indico-contribution-4@ictp.it
DESCRIPTION:Speakers: G. AMAT ()\n//indico.ictp.it/event/a02058/contributi
 on/4
LOCATION:ICTP
URL://indico.ictp.it/event/a02058/contribution/4
END:VEVENT
END:VCALENDAR
