BEGIN:VCALENDAR
VERSION:2.0
PRODID:-//CERN//INDICO//EN
BEGIN:VEVENT
SUMMARY:THE SUPERRADIANT REGIME OF A FREE-ELECTRON LASER
DTSTART;VALUE=DATE-TIME:19691231T230000Z
DTEND;VALUE=DATE-TIME:19691231T232000Z
DTSTAMP;VALUE=DATE-TIME:20240229T183103Z
UID:indico-contribution-42@ictp.it
DESCRIPTION:Speakers: R. BONIFACIO ()\, F. CASAGRANDE ()\n//indico.ictp.it
 /event/a02058/contribution/42
LOCATION:ICTP
URL://indico.ictp.it/event/a02058/contribution/42
END:VEVENT
END:VCALENDAR
