BEGIN:VCALENDAR
VERSION:2.0
PRODID:-//CERN//INDICO//EN
BEGIN:VEVENT
SUMMARY:STORAGE RINGS FOR FEL APPLICATIONS
DTSTART;VALUE=DATE-TIME:19691231T230000Z
DTEND;VALUE=DATE-TIME:19691231T232000Z
DTSTAMP;VALUE=DATE-TIME:20240229T183112Z
UID:indico-contribution-43@ictp.it
DESCRIPTION:Speakers: S. TAZZARI ()\n//indico.ictp.it/event/a02058/contrib
 ution/43
LOCATION:ICTP
URL://indico.ictp.it/event/a02058/contribution/43
END:VEVENT
END:VCALENDAR
