BEGIN:VCALENDAR
VERSION:2.0
PRODID:-//CERN//INDICO//EN
BEGIN:VEVENT
SUMMARY:SPIN-POLARIZED HYDROGEN - II\, III & IV
DTSTART;VALUE=DATE-TIME:19691231T230000Z
DTEND;VALUE=DATE-TIME:19691231T232000Z
DTSTAMP;VALUE=DATE-TIME:20240229T183212Z
UID:indico-contribution-54@ictp.it
DESCRIPTION:Speakers: D. KLEPPNER ()\n//indico.ictp.it/event/a02058/contri
 bution/54
LOCATION:ICTP
URL://indico.ictp.it/event/a02058/contribution/54
END:VEVENT
END:VCALENDAR
