BEGIN:VCALENDAR
VERSION:2.0
PRODID:-//CERN//INDICO//EN
BEGIN:VEVENT
SUMMARY:ELEMENT OF QUANTUM THEORY OF E.M. FIELD AND COHERENT STATES
DTSTART;VALUE=DATE-TIME:19691231T230000Z
DTEND;VALUE=DATE-TIME:19691231T232000Z
DTSTAMP;VALUE=DATE-TIME:20240229T183205Z
UID:indico-contribution-6@ictp.it
DESCRIPTION:Speakers: R. BONIFACIO ()\n//indico.ictp.it/event/a02058/contr
 ibution/6
LOCATION:ICTP
URL://indico.ictp.it/event/a02058/contribution/6
END:VEVENT
END:VCALENDAR
