BEGIN:VCALENDAR
VERSION:2.0
PRODID:-//CERN//INDICO//EN
BEGIN:VEVENT
SUMMARY:STATISTICAL PROPERTIES OF OPTICAL FIELDS EXPERIMENTS
DTSTART;VALUE=DATE-TIME:19691231T230000Z
DTEND;VALUE=DATE-TIME:19691231T232000Z
DTSTAMP;VALUE=DATE-TIME:20240229T183148Z
UID:indico-contribution-7@ictp.it
DESCRIPTION:Speakers: V. DEGIORGIO ()\n//indico.ictp.it/event/a02058/contr
 ibution/7
LOCATION:ICTP
URL://indico.ictp.it/event/a02058/contribution/7
END:VEVENT
END:VCALENDAR
