BEGIN:VCALENDAR
VERSION:2.0
PRODID:-//CERN//INDICO//EN
BEGIN:VEVENT
SUMMARY:LIQUID METALS STRUCTURE
DTSTART;VALUE=DATE-TIME:19840820T070000Z
DTEND;VALUE=DATE-TIME:19840820T070000Z
DTSTAMP;VALUE=DATE-TIME:20240229T174605Z
UID:indico-contribution-15-0-15@ictp.it
DESCRIPTION:Speakers: M. TOSI ()\n//indico.ictp.it/event/a0240/session/15/
 contribution/15
LOCATION:ICTP 0--
URL://indico.ictp.it/event/a0240/session/15/contribution/15
END:VEVENT
END:VCALENDAR
