BEGIN:VCALENDAR
VERSION:2.0
PRODID:-//CERN//INDICO//EN
BEGIN:VEVENT
SUMMARY:Digital arithmetic I (number representations)
DTSTART;VALUE=DATE-TIME:20080619T090000Z
DTEND;VALUE=DATE-TIME:20080619T100000Z
DTSTAMP;VALUE=DATE-TIME:20240229T161711Z
UID:indico-contribution-20@ictp.it
DESCRIPTION:Speakers: PIROUZ BAZARGAN-SABET ()\n//indico.ictp.it/event/a07
 186/session/34/contribution/20
LOCATION:Kuala Lumpur - Malaysia
URL://indico.ictp.it/event/a07186/session/34/contribution/20
END:VEVENT
END:VCALENDAR
