BEGIN:VCALENDAR
VERSION:2.0
PRODID:-//CERN//INDICO//EN
BEGIN:VEVENT
SUMMARY:Digital arithmetic II (basic arithmetic operations)
DTSTART;VALUE=DATE-TIME:20080619T100000Z
DTEND;VALUE=DATE-TIME:20080619T110000Z
DTSTAMP;VALUE=DATE-TIME:20240229T161341Z
UID:indico-contribution-21@ictp.it
DESCRIPTION:Speakers: PIROUZ BAZARGAN-SABAT ()\n//indico.ictp.it/event/a07
 186/session/35/contribution/21
LOCATION:Kuala Lumpur - Malaysia
URL://indico.ictp.it/event/a07186/session/35/contribution/21
END:VEVENT
END:VCALENDAR
