BEGIN:VCALENDAR
VERSION:2.0
PRODID:-//CERN//INDICO//EN
BEGIN:VEVENT
SUMMARY:Design Verification and Timing Concepts
DTSTART;VALUE=DATE-TIME:20080620T073000Z
DTEND;VALUE=DATE-TIME:20080620T083000Z
DTSTAMP;VALUE=DATE-TIME:20240229T162339Z
UID:indico-contribution-24@ictp.it
DESCRIPTION:Speakers: NIZAR ABDALLAH ()\n//indico.ictp.it/event/a07186/ses
 sion/41/contribution/24
LOCATION:Kuala Lumpur - Malaysia
URL://indico.ictp.it/event/a07186/session/41/contribution/24
END:VEVENT
END:VCALENDAR
