BEGIN:VCALENDAR
VERSION:2.0
PRODID:-//CERN//INDICO//EN
BEGIN:VEVENT
SUMMARY:Laboratory Session. Finite State Machine: VHDL Description and Sim
 ulation
DTSTART;VALUE=DATE-TIME:20080620T143000Z
DTEND;VALUE=DATE-TIME:20080620T173000Z
DTSTAMP;VALUE=DATE-TIME:20240229T162031Z
UID:indico-contribution-28@ictp.it
DESCRIPTION:Speakers: MARIA LIZ CRESPO ()\n//indico.ictp.it/event/a07186/s
 ession/48/contribution/28
LOCATION:Kuala Lumpur - Malaysia
URL://indico.ictp.it/event/a07186/session/48/contribution/28
END:VEVENT
END:VCALENDAR
