BEGIN:VCALENDAR
VERSION:2.0
PRODID:-//CERN//INDICO//EN
BEGIN:VEVENT
SUMMARY:Models\, Mechanics\, and Opportunities for Collaborative Engineeri
 ng and Design in the New Cyber Age. I
DTSTART;VALUE=DATE-TIME:20080701T073000Z
DTEND;VALUE=DATE-TIME:20080701T083000Z
DTSTAMP;VALUE=DATE-TIME:20240229T161646Z
UID:indico-contribution-60@ictp.it
DESCRIPTION:Speakers: KHAN JAVED IQBAL ()\n//indico.ictp.it/event/a07186/s
 ession/105/contribution/60
LOCATION:Kuala Lumpur - Malaysia
URL://indico.ictp.it/event/a07186/session/105/contribution/60
END:VEVENT
END:VCALENDAR
