BEGIN:VCALENDAR
VERSION:2.0
PRODID:-//CERN//INDICO//EN
BEGIN:VEVENT
SUMMARY:Laboratory Session. RVI Projects. Digital Signal Processing with F
 PGA.
DTSTART;VALUE=DATE-TIME:20080703T130000Z
DTEND;VALUE=DATE-TIME:20080703T140000Z
DTSTAMP;VALUE=DATE-TIME:20240229T161323Z
UID:indico-contribution-73@ictp.it
DESCRIPTION:Speakers: MARIA LIZ CRESPO ()\n//indico.ictp.it/event/a07186/s
 ession/128/contribution/73
LOCATION:Kuala Lumpur - Malaysia
URL://indico.ictp.it/event/a07186/session/128/contribution/73
END:VEVENT
END:VCALENDAR
