BEGIN:VCALENDAR
VERSION:2.0
PRODID:-//CERN//INDICO//EN
BEGIN:VEVENT
SUMMARY:Laboratory Session. Introduction to designing FPGAs with Quartus I
 I and Altera Development Kits
DTSTART;VALUE=DATE-TIME:20080707T093000Z
DTEND;VALUE=DATE-TIME:20080707T110000Z
DTSTAMP;VALUE=DATE-TIME:20240229T161550Z
UID:indico-contribution-80@ictp.it
DESCRIPTION:Speakers: KING KEONG WONG\, THIAM SIN LAI ()\n//indico.ictp.it
 /event/a07186/session/142/contribution/80
LOCATION:Kuala Lumpur - Malaysia
URL://indico.ictp.it/event/a07186/session/142/contribution/80
END:VEVENT
END:VCALENDAR
