BEGIN:VCALENDAR
VERSION:2.0
PRODID:-//CERN//INDICO//EN
BEGIN:VEVENT
SUMMARY:An Overview of Microprocessor Architecture &. Implementation of a 
 Large Bus Size VLIW Microprocessor on FPGA
DTSTART;VALUE=DATE-TIME:20080709T073000Z
DTEND;VALUE=DATE-TIME:20080709T083000Z
DTSTAMP;VALUE=DATE-TIME:20240229T162229Z
UID:indico-contribution-87@ictp.it
DESCRIPTION:Speakers: WENG FOOK LEE ()\n//indico.ictp.it/event/a07186/sess
 ion/156/contribution/87
LOCATION:Kuala Lumpur - Malaysia
URL://indico.ictp.it/event/a07186/session/156/contribution/87
END:VEVENT
END:VCALENDAR
