BEGIN:VCALENDAR
VERSION:2.0
PRODID:-//CERN//INDICO//EN
BEGIN:VEVENT
SUMMARY:Validating the Intel Leading-Edge Architecture Microprocessor duri
 ng Pre-Silicon.
DTSTART;VALUE=DATE-TIME:20080710T130000Z
DTEND;VALUE=DATE-TIME:20080710T140000Z
DTSTAMP;VALUE=DATE-TIME:20240229T161428Z
UID:indico-contribution-94@ictp.it
DESCRIPTION:Speakers: CHEW BENG WAN ()\n//indico.ictp.it/event/a07186/sess
 ion/169/contribution/94
LOCATION:Kuala Lumpur - Malaysia
URL://indico.ictp.it/event/a07186/session/169/contribution/94
END:VEVENT
END:VCALENDAR
