BEGIN:VCALENDAR
VERSION:2.0
PRODID:-//CERN//INDICO//EN
BEGIN:VEVENT
SUMMARY:Laboratory Session. Implementation on the FPGA Development Platfor
 m. Digital Arithmetic (cont.)
DTSTART;VALUE=DATE-TIME:20080630T143000Z
DTEND;VALUE=DATE-TIME:20080630T170000Z
DTSTAMP;VALUE=DATE-TIME:20240229T161325Z
UID:indico-contribution-103-0-59@ictp.it
DESCRIPTION:Speakers: MARIA LIZ CRESPO ()\n//indico.ictp.it/event/a07186/s
 ession/103/contribution/59
LOCATION:Kuala Lumpur - Malaysia
URL://indico.ictp.it/event/a07186/session/103/contribution/59
END:VEVENT
END:VCALENDAR
