BEGIN:VCALENDAR
VERSION:2.0
PRODID:-//CERN//INDICO//EN
BEGIN:VEVENT
SUMMARY:Break proceed to Sport Complex (UA113)
DTSTART;VALUE=DATE-TIME:20080711T083000Z
DTEND;VALUE=DATE-TIME:20080711T090000Z
DTSTAMP;VALUE=DATE-TIME:20240229T163300Z
UID:indico-event-175-0@ictp.it
DESCRIPTION://indico.ictp.it/event/a07186/session/175/?slotId=0
LOCATION:Kuala Lumpur - Malaysia
URL://indico.ictp.it/event/a07186/session/175/?slotId=0
END:VEVENT
END:VCALENDAR
