BEGIN:VCALENDAR
VERSION:2.0
PRODID:-//CERN//INDICO//EN
BEGIN:VEVENT
SUMMARY:Lunch
DTSTART;VALUE=DATE-TIME:20080618T110000Z
DTEND;VALUE=DATE-TIME:20080618T130000Z
DTSTAMP;VALUE=DATE-TIME:20240229T163058Z
UID:indico-event-27-0@ictp.it
DESCRIPTION://indico.ictp.it/event/a07186/session/27/?slotId=0
LOCATION:Kuala Lumpur - Malaysia
URL://indico.ictp.it/event/a07186/session/27/?slotId=0
END:VEVENT
END:VCALENDAR
