BEGIN:VCALENDAR
VERSION:2.0
PRODID:-//CERN//INDICO//EN
BEGIN:VEVENT
SUMMARY:Actel Flash FPGA architecture
DTSTART;VALUE=DATE-TIME:20080624T073000Z
DTEND;VALUE=DATE-TIME:20080624T083000Z
DTSTAMP;VALUE=DATE-TIME:20240229T161846Z
UID:indico-contribution-60-0-35@ictp.it
DESCRIPTION:Speakers: NIZAR ABDALLAH ()\n//indico.ictp.it/event/a07186/ses
 sion/60/contribution/35
LOCATION:Kuala Lumpur - Malaysia
URL://indico.ictp.it/event/a07186/session/60/contribution/35
END:VEVENT
END:VCALENDAR
