BEGIN:VCALENDAR
VERSION:2.0
PRODID:-//CERN//INDICO//EN
BEGIN:VEVENT
SUMMARY:CMOS Technology II
DTSTART;VALUE=DATE-TIME:20080624T100000Z
DTEND;VALUE=DATE-TIME:20080624T110000Z
DTSTAMP;VALUE=DATE-TIME:20240229T161359Z
UID:indico-contribution-63-0-37@ictp.it
DESCRIPTION:Speakers: PAULO MOREIRA ()\n//indico.ictp.it/event/a07186/sess
 ion/63/contribution/37
LOCATION:Kuala Lumpur - Malaysia
URL://indico.ictp.it/event/a07186/session/63/contribution/37
END:VEVENT
END:VCALENDAR
