BEGIN:VCALENDAR
VERSION:2.0
PRODID:-//CERN//INDICO//EN
BEGIN:VEVENT
SUMMARY:Advance FPGA applications. A case study in HEP experiments (contd)
DTSTART;VALUE=DATE-TIME:20080625T130000Z
DTEND;VALUE=DATE-TIME:20080625T140000Z
DTSTAMP;VALUE=DATE-TIME:20240229T162033Z
UID:indico-contribution-75-0-44@ictp.it
DESCRIPTION:Speakers: ALEXANDER KLUGE ()\n//indico.ictp.it/event/a07186/se
 ssion/75/contribution/44
LOCATION:Kuala Lumpur - Malaysia
URL://indico.ictp.it/event/a07186/session/75/contribution/44
END:VEVENT
END:VCALENDAR
