BEGIN:VCALENDAR
VERSION:2.0
PRODID:-//CERN//INDICO//EN
BEGIN:VEVENT
SUMMARY:Laboratory Session. Synthesis\, Pos-Synthesis Simulation and Imple
 mentation in the FPGA Development Platform (cont)
DTSTART;VALUE=DATE-TIME:20080626T130000Z
DTEND;VALUE=DATE-TIME:20080626T140000Z
DTSTAMP;VALUE=DATE-TIME:20240229T162021Z
UID:indico-contribution-84-0-49@ictp.it
DESCRIPTION:Speakers: MARIA LIZ CRESPO ()\n//indico.ictp.it/event/a07186/s
 ession/84/contribution/49
LOCATION:Kuala Lumpur - Malaysia
URL://indico.ictp.it/event/a07186/session/84/contribution/49
END:VEVENT
END:VCALENDAR
