BEGIN:VCALENDAR
VERSION:2.0
PRODID:-//CERN//INDICO//EN
BEGIN:VEVENT
SUMMARY:AMS: an ultra-sensitive technique for the measure of chronometers 
 and other tracers in marine natural archives
DTSTART;VALUE=DATE-TIME:20080529T070000Z
DTEND;VALUE=DATE-TIME:20080529T083000Z
DTSTAMP;VALUE=DATE-TIME:20240229T155149Z
UID:indico-contribution-18@ictp.it
DESCRIPTION:Speakers: CLAUDIO TUNIZ (ICTP\, Trieste\, Italy)\n//indico.ict
 p.it/event/a07220/session/24/contribution/18
LOCATION:Cienfuegos - Cuba
URL://indico.ictp.it/event/a07220/session/24/contribution/18
END:VEVENT
END:VCALENDAR
