BEGIN:VCALENDAR
VERSION:2.0
PRODID:-//CERN//INDICO//EN
BEGIN:VEVENT
SUMMARY:Water masses properties\, chemical signature and biological proces
 ses in coastal marine environments
DTSTART;VALUE=DATE-TIME:20080526T100000Z
DTEND;VALUE=DATE-TIME:20080526T110000Z
DTSTAMP;VALUE=DATE-TIME:20240229T155201Z
UID:indico-contribution-2@ictp.it
DESCRIPTION:Speakers: MAURIZIO RIBERA D’ALCALÀ (Stazione Zoologica Anto
 n Dohrn\, Naples\, Italy)\n//indico.ictp.it/event/a07220/session/3/contrib
 ution/2
LOCATION:Cienfuegos - Cuba
URL://indico.ictp.it/event/a07220/session/3/contribution/2
END:VEVENT
END:VCALENDAR
