BEGIN:VCALENDAR
VERSION:2.0
PRODID:-//CERN//INDICO//EN
BEGIN:VEVENT
SUMMARY:LABORATORY TRAINING: Coupled physical-ecological models (1)
DTSTART;VALUE=DATE-TIME:20080605T090000Z
DTEND;VALUE=DATE-TIME:20080605T110000Z
DTSTAMP;VALUE=DATE-TIME:20240229T155229Z
UID:indico-contribution-37@ictp.it
DESCRIPTION:Speakers: C. PINAZO\, M.RIBERA\, E. MAURI ()\n//indico.ictp.it
 /event/a07220/session/51/contribution/37
LOCATION:Cienfuegos - Cuba
URL://indico.ictp.it/event/a07220/session/51/contribution/37
END:VEVENT
END:VCALENDAR
